BEGIN:VCALENDAR
VERSION:2.0
PRODID:-//Tukios.com/
BEGIN:VEVENT
UID:6b4d1ccf-6123-4a36-80d7-e50c3ab62a1f@www.simonetfuneralhome.com
DTSTAMP:20260420T214609Z
DTSTART:20260426T180000Z
DTEND:20260426T193000Z
SUMMARY:Visitation
DESCRIPTION:
URL:https://www.simonetfuneralhome.com/obituaries/james-larson
LOCATION:Simonet Funeral Home 6429 Osgood Avenue North  Stillwater MN 
	55082
GEO:45.0421186;-92.8071641
END:VEVENT
END:VCALENDAR