BEGIN:VCALENDAR
VERSION:2.0
PRODID:-//Tukios.com/
BEGIN:VEVENT
UID:cded7ffd-a28d-45e0-a102-051b083e038e@www.simonetfuneralhome.com
DTSTAMP:20260420T214800Z
DTSTART:20260426T193000Z
DTEND:20260426T200000Z
SUMMARY:Memorial Service
DESCRIPTION:
URL:https://www.simonetfuneralhome.com/obituaries/james-larson
LOCATION:Simonet Funeral Home 6429 Osgood Avenue North  Stillwater MN 
	55082
GEO:45.0421186;-92.8071641
END:VEVENT
END:VCALENDAR